BEGIN:VCALENDAR
VERSION:2.0
PRODID:-//wp-events-plugin.com//5.99912//EN
TZID:Europe/Berlin
X-WR-TIMEZONE:Europe/Berlin
BEGIN:VEVENT
UID:0-598@fils-gau.albverein.eu
DTSTART;TZID=Europe/Berlin:20261120T190000
DTEND;TZID=Europe/Berlin:20261120T190000
DTSTAMP:20260103T144727Z
URL:https://fils-gau.albverein.eu/events/vorsitzende-und-vertreter-der-ogn
 -im-filsgau-gauvertreterversammlung-2026-bad-boll-ev-gemeindehaus-19-00-uh
 r/
SUMMARY:Vorsitzende und Vertreter der OGn im Filsgau: Gauvertreterversammlu
 ng 2026\, Bad Boll\, ev. Gemeindehaus\, 19.00 Uhr
DESCRIPTION:
CATEGORIES:Fils-Gau
END:VEVENT
BEGIN:VTIMEZONE
TZID:Europe/Berlin
X-LIC-LOCATION:Europe/Berlin
BEGIN:STANDARD
DTSTART:20261025T020000
TZOFFSETFROM:+0200
TZOFFSETTO:+0100
TZNAME:CET
END:STANDARD
END:VTIMEZONE
END:VCALENDAR