BEGIN:VCALENDAR
VERSION:2.0
PRODID:-//wp-events-plugin.com//5.99912//EN
TZID:Europe/Berlin
X-WR-TIMEZONE:Europe/Berlin
BEGIN:VEVENT
UID:0-594@fils-gau.albverein.eu
DTSTART;TZID=Europe/Berlin;VALUE=DATE:20260509
DTEND;TZID=Europe/Berlin;VALUE=DATE:20260510
DTSTAMP:20260103T143059Z
URL:https://fils-gau.albverein.eu/events/og-vorsitzende-teamsprecher-wande
 rwarte-filsgauausschuss-gemeinsame-wanderung-eybach/
SUMMARY:OG-Vorsitzende\, Teamsprecher\, Wanderwarte\, Filsgauausschuss: Gem
 einsame Wanderung Eybach
DESCRIPTION:Orga: OG Eybach\n\nDetails folgen\n\n- Änderungen vorbehalten 
 -
CATEGORIES:Fils-Gau
END:VEVENT
BEGIN:VTIMEZONE
TZID:Europe/Berlin
X-LIC-LOCATION:Europe/Berlin
BEGIN:DAYLIGHT
DTSTART:20260329T030000
TZOFFSETFROM:+0100
TZOFFSETTO:+0200
TZNAME:CEST
END:DAYLIGHT
END:VTIMEZONE
END:VCALENDAR