BEGIN:VCALENDAR
VERSION:2.0
PRODID:-//wp-events-plugin.com//5.99912//EN
TZID:Europe/Berlin
X-WR-TIMEZONE:Europe/Berlin
BEGIN:VEVENT
UID:0-597@fils-gau.albverein.eu
DTSTART;TZID=Europe/Berlin;VALUE=DATE:20261017
DTEND;TZID=Europe/Berlin;VALUE=DATE:20261019
DTSTAMP:20260103T144602Z
URL:https://fils-gau.albverein.eu/events/25-jahre-heimat-und-wanderakademi
 e-gemeinsam-unterwegs-rund-um-den-hohenneuffen/
SUMMARY:25 Jahre Heimat- und Wanderakademie\, Gemeinsam unterwegs\, rund um
  den Hohenneuffen
DESCRIPTION:Details folgen\n\n- Änderungen vorbehalten -
CATEGORIES:Fils-Gau
END:VEVENT
BEGIN:VTIMEZONE
TZID:Europe/Berlin
X-LIC-LOCATION:Europe/Berlin
BEGIN:DAYLIGHT
DTSTART:20260329T030000
TZOFFSETFROM:+0100
TZOFFSETTO:+0200
TZNAME:CEST
END:DAYLIGHT
END:VTIMEZONE
END:VCALENDAR